BEGIN:VCALENDAR
VERSION:2.0
PRODID:-//Vox Vigor - ECPv6.15.11//NONSGML v1.0//EN
CALSCALE:GREGORIAN
METHOD:PUBLISH
X-ORIGINAL-URL:https://voxvigor.se
X-WR-CALDESC:Händelser för Vox Vigor
REFRESH-INTERVAL;VALUE=DURATION:PT1H
X-Robots-Tag:noindex
X-PUBLISHED-TTL:PT1H
BEGIN:VTIMEZONE
TZID:Europe/Stockholm
BEGIN:DAYLIGHT
TZOFFSETFROM:+0100
TZOFFSETTO:+0200
TZNAME:CEST
DTSTART:20230326T010000
END:DAYLIGHT
BEGIN:STANDARD
TZOFFSETFROM:+0200
TZOFFSETTO:+0100
TZNAME:CET
DTSTART:20231029T010000
END:STANDARD
BEGIN:DAYLIGHT
TZOFFSETFROM:+0100
TZOFFSETTO:+0200
TZNAME:CEST
DTSTART:20240331T010000
END:DAYLIGHT
BEGIN:STANDARD
TZOFFSETFROM:+0200
TZOFFSETTO:+0100
TZNAME:CET
DTSTART:20241027T010000
END:STANDARD
BEGIN:DAYLIGHT
TZOFFSETFROM:+0100
TZOFFSETTO:+0200
TZNAME:CEST
DTSTART:20250330T010000
END:DAYLIGHT
BEGIN:STANDARD
TZOFFSETFROM:+0200
TZOFFSETTO:+0100
TZNAME:CET
DTSTART:20251026T010000
END:STANDARD
END:VTIMEZONE
BEGIN:VEVENT
DTSTART;TZID=Europe/Stockholm:20241008T170000
DTEND;TZID=Europe/Stockholm:20241008T190000
DTSTAMP:20260423T202849
CREATED:20240813T140859Z
LAST-MODIFIED:20240813T140859Z
UID:10001421-1728406800-1728414000@voxvigor.se
SUMMARY:Äldre kvinnors psykiska ohälsa
DESCRIPTION:Information & föreläsning om äldre kvinnors psykiska ohälsa\,\nAnledningen till psykisk ohälsa hos just äldre kvinnor kan bero på olika saker\,exempelvis;. social isolering\,. ensamhet\,. att leva med en sjuk partner\,…\nÄldre kvinnor kan även de lida av psykiskt dåligt mående på grund av att de utsätts för våld.\nVill du kvinna 65+komma och få information\, trevlig gemenskap & ta en fika tillsammans med andra kvinnor?\nAnmäl dig via e-post; sala@roks.se\nEller via telefon; 072-568 19 93\nLämna namn & telefonnummer med din anmälan om vi skulle behöva nå dig.\nPlats för kvällen meddelas till dig vid anmälningstillfället.\n\nVälkommen 
URL:https://voxvigor.se/pa-gang/aldre-kvinnors-psykiska-ohalsa/
LOCATION:Sala
END:VEVENT
END:VCALENDAR