BEGIN:VCALENDAR
VERSION:2.0
PRODID:-//Vox Vigor - ECPv6.15.11//NONSGML v1.0//EN
CALSCALE:GREGORIAN
METHOD:PUBLISH
X-ORIGINAL-URL:https://voxvigor.se
X-WR-CALDESC:Händelser för Vox Vigor
REFRESH-INTERVAL;VALUE=DURATION:PT1H
X-Robots-Tag:noindex
X-PUBLISHED-TTL:PT1H
BEGIN:VTIMEZONE
TZID:Europe/Stockholm
BEGIN:DAYLIGHT
TZOFFSETFROM:+0100
TZOFFSETTO:+0200
TZNAME:CEST
DTSTART:20230326T010000
END:DAYLIGHT
BEGIN:STANDARD
TZOFFSETFROM:+0200
TZOFFSETTO:+0100
TZNAME:CET
DTSTART:20231029T010000
END:STANDARD
BEGIN:DAYLIGHT
TZOFFSETFROM:+0100
TZOFFSETTO:+0200
TZNAME:CEST
DTSTART:20240331T010000
END:DAYLIGHT
BEGIN:STANDARD
TZOFFSETFROM:+0200
TZOFFSETTO:+0100
TZNAME:CET
DTSTART:20241027T010000
END:STANDARD
BEGIN:DAYLIGHT
TZOFFSETFROM:+0100
TZOFFSETTO:+0200
TZNAME:CEST
DTSTART:20250330T010000
END:DAYLIGHT
BEGIN:STANDARD
TZOFFSETFROM:+0200
TZOFFSETTO:+0100
TZNAME:CET
DTSTART:20251026T010000
END:STANDARD
END:VTIMEZONE
BEGIN:VEVENT
DTSTART;TZID=Europe/Stockholm:20240413T123000
DTEND;TZID=Europe/Stockholm:20240413T160000
DTSTAMP:20260423T143159
CREATED:20240326T083943Z
LAST-MODIFIED:20240326T083943Z
UID:10000362-1713011400-1713024000@voxvigor.se
SUMMARY:Psykisk ohälsa hos ungdomar & kriminalitet
DESCRIPTION:Kraften i samarbete – Ett evenemang om psykisk hälsa hos barn och ungdomar samt gängkriminalitet. \nSLMA och den libanesiska föreningen bjuder in dig till en engagerande diskussion om de utmaningar som psykisk ohälsa och gängrelaterad kriminalitet innebär för vår ungdom \n 
URL:https://voxvigor.se/pa-gang/psykisk-ohalsa-hos-ungdomar-kriminalitet/
LOCATION:Kista Torg\, Kista
END:VEVENT
END:VCALENDAR