BEGIN:VCALENDAR
VERSION:2.0
PRODID:-//Vox Vigor - ECPv6.15.11//NONSGML v1.0//EN
CALSCALE:GREGORIAN
METHOD:PUBLISH
X-WR-CALNAME:Vox Vigor
X-ORIGINAL-URL:https://voxvigor.se
X-WR-CALDESC:Händelser för Vox Vigor
REFRESH-INTERVAL;VALUE=DURATION:PT1H
X-Robots-Tag:noindex
X-PUBLISHED-TTL:PT1H
BEGIN:VTIMEZONE
TZID:Europe/Stockholm
BEGIN:DAYLIGHT
TZOFFSETFROM:+0100
TZOFFSETTO:+0200
TZNAME:CEST
DTSTART:20240331T010000
END:DAYLIGHT
BEGIN:STANDARD
TZOFFSETFROM:+0200
TZOFFSETTO:+0100
TZNAME:CET
DTSTART:20241027T010000
END:STANDARD
BEGIN:DAYLIGHT
TZOFFSETFROM:+0100
TZOFFSETTO:+0200
TZNAME:CEST
DTSTART:20250330T010000
END:DAYLIGHT
BEGIN:STANDARD
TZOFFSETFROM:+0200
TZOFFSETTO:+0100
TZNAME:CET
DTSTART:20251026T010000
END:STANDARD
BEGIN:DAYLIGHT
TZOFFSETFROM:+0100
TZOFFSETTO:+0200
TZNAME:CEST
DTSTART:20260329T010000
END:DAYLIGHT
BEGIN:STANDARD
TZOFFSETFROM:+0200
TZOFFSETTO:+0100
TZNAME:CET
DTSTART:20261025T010000
END:STANDARD
END:VTIMEZONE
BEGIN:VEVENT
DTSTART;TZID=Europe/Stockholm:20250922T180000
DTEND;TZID=Europe/Stockholm:20250922T193000
DTSTAMP:20260423T132507
CREATED:20250910T163029Z
LAST-MODIFIED:20250910T163510Z
UID:10001512-1758564000-1758569400@voxvigor.se
SUMMARY:Vad händer  när tvångstanken blir verklighet?
DESCRIPTION:Kom och lär dig mer på OCD:s föreläsningar. De är gratis – men OCD uppskattar om du vill stötta dem genom att bli medlem.\nDe flesta föreläsningar går att se i efterhand under två veckor. \nNär covid-19 svepte över världen 2020 låg mycket fokus på smitta\, sjukdom och renlighet. För många med psykisk ohälsa blev det en tuff tid\, inte minst för dem med tvångssyndrom. \nUlrika Brodin berättar om sin dotter som länge kämpat med renlighetstvång – en kamp som snabbt förvärrades när pandemin bröt ut. Plötsligt blev hennes värsta farhågor verklighet\, inte bara hemma\, utan i hela världen. \nTvånget tog snabbt över vardagen och påverkade hela familjen. Vägen till hjälp var lång och fylld av hinder\, men till slut fick de det stöd de behövde. Med hjälp av behandling och tydliga strategier började de sakta hitta tillbaka till en fungerande vardag. \nUlrika berättar hur små framsteg blev stora segrar. Det var ingen enkel väg\, men den var möjlig. I dag vill hon dela sin berättelse för att inge hopp till andra familjer som kämpar och visa att förändring är möjlig – även när det känns som mörkast.
URL:https://voxvigor.se/pa-gang/vad-hander-nar-tvangstanken-blir-verklighet/
LOCATION:https://us02web.zoom.us/j/82621102022\, zoom\, Sverige
END:VEVENT
END:VCALENDAR