BEGIN:VCALENDAR
VERSION:2.0
PRODID:-//Vox Vigor - ECPv6.15.11//NONSGML v1.0//EN
CALSCALE:GREGORIAN
METHOD:PUBLISH
X-WR-CALNAME:Vox Vigor
X-ORIGINAL-URL:https://voxvigor.se
X-WR-CALDESC:Händelser för Vox Vigor
REFRESH-INTERVAL;VALUE=DURATION:PT1H
X-Robots-Tag:noindex
X-PUBLISHED-TTL:PT1H
BEGIN:VTIMEZONE
TZID:Europe/Stockholm
BEGIN:DAYLIGHT
TZOFFSETFROM:+0100
TZOFFSETTO:+0200
TZNAME:CEST
DTSTART:20230326T010000
END:DAYLIGHT
BEGIN:STANDARD
TZOFFSETFROM:+0200
TZOFFSETTO:+0100
TZNAME:CET
DTSTART:20231029T010000
END:STANDARD
BEGIN:DAYLIGHT
TZOFFSETFROM:+0100
TZOFFSETTO:+0200
TZNAME:CEST
DTSTART:20240331T010000
END:DAYLIGHT
BEGIN:STANDARD
TZOFFSETFROM:+0200
TZOFFSETTO:+0100
TZNAME:CET
DTSTART:20241027T010000
END:STANDARD
BEGIN:DAYLIGHT
TZOFFSETFROM:+0100
TZOFFSETTO:+0200
TZNAME:CEST
DTSTART:20250330T010000
END:DAYLIGHT
BEGIN:STANDARD
TZOFFSETFROM:+0200
TZOFFSETTO:+0100
TZNAME:CET
DTSTART:20251026T010000
END:STANDARD
END:VTIMEZONE
BEGIN:VEVENT
DTSTART;TZID=Europe/Stockholm:20241011T160000
DTEND;TZID=Europe/Stockholm:20241011T220000
DTSTAMP:20260423T205652
CREATED:20241011T110922Z
LAST-MODIFIED:20241011T110922Z
UID:10001454-1728662400-1728684000@voxvigor.se
SUMMARY:Premiär av dokumentärfilmen Det kunde varit vi
DESCRIPTION:Premiär 11 oktober!\nFilmen visas på biografer runt om i Sverige under oktober \nCatwalk-gänget är tillbaka på biograferna i\nDet kunde varit vi\, där vi får följa med folkkära Ida\,\nEmma och Pär från Glada Hudik-teatern på\nen resa genom historien. \nDen bjuder på starka upplevelser och stora känslor\,\nallt från tårar till skratt. \nDokumentären Det kunde varit vi är en historia\nom upprättelse berättad av vännerna Emma och Ida\, som båda föddes med funktionsnedsättningar\,\nmen också med mod och livsglädje. \nI en bedagad husbil ger de sig av på en resa\ntillsammans med sin vän Pär Johansson\, för att ta\nreda på hur det var att leva med en intellektuell funktionsnedsättning i en annan tid. \nDet kunde varit vi påminner om vad som kan hända om vi glömmer vikten av att vara medmänniskor. \nDet kunde varit vi tar oss tillbaka till en tid då\nvi trodde på rasforskning och på att spärra in\nså kallade sinnesslöa\, från invigningen\nav rasbiologiska institutet i Uppsala 1922\ntill experimenten på Vipeholmsanstalten.
URL:https://voxvigor.se/pa-gang/premiar-av-dokumentarfilmen-det-kunde-varit-vi/
LOCATION:Flera orter\, Sverige
END:VEVENT
END:VCALENDAR