BEGIN:VCALENDAR
VERSION:2.0
PRODID:-//Vox Vigor - ECPv6.15.11//NONSGML v1.0//EN
CALSCALE:GREGORIAN
METHOD:PUBLISH
X-WR-CALNAME:Vox Vigor
X-ORIGINAL-URL:https://voxvigor.se
X-WR-CALDESC:Händelser för Vox Vigor
REFRESH-INTERVAL;VALUE=DURATION:PT1H
X-Robots-Tag:noindex
X-PUBLISHED-TTL:PT1H
BEGIN:VTIMEZONE
TZID:Europe/Stockholm
BEGIN:DAYLIGHT
TZOFFSETFROM:+0100
TZOFFSETTO:+0200
TZNAME:CEST
DTSTART:20230326T010000
END:DAYLIGHT
BEGIN:STANDARD
TZOFFSETFROM:+0200
TZOFFSETTO:+0100
TZNAME:CET
DTSTART:20231029T010000
END:STANDARD
BEGIN:DAYLIGHT
TZOFFSETFROM:+0100
TZOFFSETTO:+0200
TZNAME:CEST
DTSTART:20240331T010000
END:DAYLIGHT
BEGIN:STANDARD
TZOFFSETFROM:+0200
TZOFFSETTO:+0100
TZNAME:CET
DTSTART:20241027T010000
END:STANDARD
BEGIN:DAYLIGHT
TZOFFSETFROM:+0100
TZOFFSETTO:+0200
TZNAME:CEST
DTSTART:20250330T010000
END:DAYLIGHT
BEGIN:STANDARD
TZOFFSETFROM:+0200
TZOFFSETTO:+0100
TZNAME:CET
DTSTART:20251026T010000
END:STANDARD
END:VTIMEZONE
BEGIN:VEVENT
DTSTART;TZID=Europe/Stockholm:20240325T180000
DTEND;TZID=Europe/Stockholm:20240325T190000
DTSTAMP:20260425T044240
CREATED:20240315T131255Z
LAST-MODIFIED:20240315T131255Z
UID:10000346-1711389600-1711393200@voxvigor.se
SUMMARY:Föreläsning om OCD
DESCRIPTION:Inte bara ocd – behandling vid samsjuklighet\nGår det att behandlas för ocd samtidigt som man har autism eller anorexi? Johannes Cannán-Magnusson och Annika Prytz\, OCD-mottagningen i Lerum. \nNär: 25/3 kl 18.00–19.30\nVar: https://us02web.zoom.us/j/83199586836
URL:https://voxvigor.se/pa-gang/forelasning-om-ocd/
LOCATION:Distans
ORGANIZER;CN="OCD-f%C3%B6rbundet%2C kansliet":MAILTO:info@ocdforbundet.se
END:VEVENT
END:VCALENDAR