BEGIN:VCALENDAR
VERSION:2.0
PRODID:-//Vox Vigor - ECPv6.15.11//NONSGML v1.0//EN
CALSCALE:GREGORIAN
METHOD:PUBLISH
X-ORIGINAL-URL:https://voxvigor.se
X-WR-CALDESC:Händelser för Vox Vigor
REFRESH-INTERVAL;VALUE=DURATION:PT1H
X-Robots-Tag:noindex
X-PUBLISHED-TTL:PT1H
BEGIN:VTIMEZONE
TZID:Europe/Stockholm
BEGIN:DAYLIGHT
TZOFFSETFROM:+0100
TZOFFSETTO:+0200
TZNAME:CEST
DTSTART:20250330T010000
END:DAYLIGHT
BEGIN:STANDARD
TZOFFSETFROM:+0200
TZOFFSETTO:+0100
TZNAME:CET
DTSTART:20251026T010000
END:STANDARD
BEGIN:DAYLIGHT
TZOFFSETFROM:+0100
TZOFFSETTO:+0200
TZNAME:CEST
DTSTART:20260329T010000
END:DAYLIGHT
BEGIN:STANDARD
TZOFFSETFROM:+0200
TZOFFSETTO:+0100
TZNAME:CET
DTSTART:20261025T010000
END:STANDARD
BEGIN:DAYLIGHT
TZOFFSETFROM:+0100
TZOFFSETTO:+0200
TZNAME:CEST
DTSTART:20270328T010000
END:DAYLIGHT
BEGIN:STANDARD
TZOFFSETFROM:+0200
TZOFFSETTO:+0100
TZNAME:CET
DTSTART:20271031T010000
END:STANDARD
END:VTIMEZONE
BEGIN:VEVENT
DTSTART;TZID=Europe/Stockholm:20260625T103000
DTEND;TZID=Europe/Stockholm:20260625T113000
DTSTAMP:20260421T020953
CREATED:20260420T084501Z
LAST-MODIFIED:20260420T084501Z
UID:10001576-1782383400-1782387000@voxvigor.se
SUMMARY:Almedalsveckan: Vi vet att kultur stärker ungas psykiska hälsa – varför gör vi inte mer?
DESCRIPTION:Beskrivning av samhällsfrågan\nAllt fler unga lider av psykisk ohälsa. Samtidigt visar forskning att kultur och kreativt skapande kan stärka välmående\, minska stress och öka känslan av sammanhang. Trots det används kultur sällan som en del av arbetet för psykisk hälsa. Varför och vad krävs för att ändra på det? \nEvenemangsinformation\nEvenemangstyp: Debatt/panelsamtal \nEvenemangs-ID: 7629 \nSpråk: Svenska \nFörtäring: Ja \nPlats: Birgers gränd 7\, trädgård med ingång från Almedalen\, Folkets park by Tim Bergling Foundation \nArrangörsuppgifter\nKontaktperson: Alexandra Björnsson\, Development Lead\, Tim Bergling Foundation\, alexandra.bjornsson@timberglingfoundation.org \nHilda Karlsson\, Event Assistant & Office Coordinator\, Tim Bergling Foundation\, hilda.karlsson@timberglingfoundation.org
URL:https://voxvigor.se/pa-gang/almedalsveckan-vi-vet-att-kultur-starker-ungas-psykiska-halsa-varfor-gor-vi-inte-mer/
LOCATION:Almedalsveckan\, Gotland
END:VEVENT
BEGIN:VEVENT
DTSTART;TZID=Europe/Stockholm:20260625T140000
DTEND;TZID=Europe/Stockholm:20260625T150000
DTSTAMP:20260421T020953
CREATED:20260420T090920Z
LAST-MODIFIED:20260420T090920Z
UID:10001581-1782396000-1782399600@voxvigor.se
SUMMARY:Almedalsveckan: Mellan rubriker och verklighet - vad forskningen om unga kvinnors psykiska hälsa visar
DESCRIPTION:Beskrivning av samhällsfrågan\nHur ska vi förstå unga kvinnors psykiska ohälsa och vad behöver ske för att gruppens levnadsvillkor och lika rättigheter ska stärkas? Vad vet vi om deras situation som kan hjälpa oss att hjälpa? \nUtökad information om evenemanget\nPolitiska företrädare och experter diskuterar hur unga kvinnors psykiska ohälsa ska förstås och vad som behöver ske för att gruppens levnadsvillkor och lika rättigheter ska stärkas. Vi presenterar också en ny kunskapsöversikt från Mind och de två forskarnätverken WOMHER och UPIC. \nEvenemangsinformation\nEvenemangstyp: Seminarium/föreläsning \nEvenemangs-ID: 8226 \nSpråk: Svenska \nFörtäring: Nej \nPlats: Cramérgatan 3\, Campus Gotland\, sal E31\, E-huset\, plan 3. \nArrangörsuppgifter\nKontaktperson: Johanna Wester\, Ansvarig för påverkan på Mind\, Mind\, johanna.wester@mind.se \nAstrid Carsbring\, Projektledare\, Sveriges kvinnoorganisationer\, astrid.carsbring@sverigeskvinnoorganisationer.se
URL:https://voxvigor.se/pa-gang/almedalsveckan-mellan-rubriker-och-verklighet-vad-forskningen-om-unga-kvinnors-psykiska-halsa-visar/
LOCATION:Almedalsveckan\, Gotland
END:VEVENT
BEGIN:VEVENT
DTSTART;TZID=Europe/Stockholm:20260625T150000
DTEND;TZID=Europe/Stockholm:20260625T160000
DTSTAMP:20260421T020953
CREATED:20260420T085805Z
LAST-MODIFIED:20260420T085805Z
UID:10001577-1782399600-1782403200@voxvigor.se
SUMMARY:Almedalsveckan: Delaktighet som skyddsfaktor – hur påverkar inflytande ungas psykiska hälsa?
DESCRIPTION:Beskrivning av samhällsfrågan\nMånga rapporter vittnar om att ungas psykiska ohälsa ökar. Känslan av sammanhang\, tillhörighet och möjlighet att påverka sitt eget liv är avgörande faktorer för välmående. Frågan är därför inte bara hur unga mår\, utan också vilken roll delaktighet spelar i deras mående. \nUtökad information om evenemanget\nNär unga upplever att deras röster tas på allvar – i skolan\, i samhället och i beslut som rör deras vardag – stärks känslan av egenmakt. Delaktighet kan fungera som en skyddsfaktor mot psykisk ohälsa genom att bidra till meningsfullhet\, ansvar och social tillhörighet. Men när unga upplever att beslut fattas över deras huvuden riskerar motsatsen att ske: känslor av maktlöshet\, frustration och utanförskap. Samtidigt är delaktighet inte alltid enkelt. Den kräver strukturer som gör inflytande möjligt på riktigt – inte bara symboliskt. Det handlar om att skapa forum där unga kan delta\, men också om att vuxenvärlden är beredd att lyssna\, förändra och ibland släppa kontroll. I detta rundabordssamtal vill vi utforska kopplingen mellan delaktighet och psykisk hälsa. \nMedverkande\nMatilda Holmberg\, Projektmedarbetare Mind Unga\, Mind \nEvenemangsinformation\nEvenemangstyp: Samtal \nEvenemangs-ID: 7256 \nSpråk: Svenska \nFörtäring: Nej \nPlats: S:t Hansgatan 3\, Hälsans Trädgård \nArrangörsuppgifter\nKontaktperson: Helén Thorén\, Projektledare Mind Unga\, Mind\, helen.thoren@mind.se
URL:https://voxvigor.se/pa-gang/almedalsveckan-delaktighet-som-skyddsfaktor-hur-paverkar-inflytande-ungas-psykiska-halsa/
LOCATION:Almedalsveckan\, Gotland
END:VEVENT
END:VCALENDAR