BEGIN:VCALENDAR
VERSION:2.0
PRODID:-//Vox Vigor - ECPv6.15.11//NONSGML v1.0//EN
CALSCALE:GREGORIAN
METHOD:PUBLISH
X-ORIGINAL-URL:https://voxvigor.se
X-WR-CALDESC:Händelser för Vox Vigor
REFRESH-INTERVAL;VALUE=DURATION:PT1H
X-Robots-Tag:noindex
X-PUBLISHED-TTL:PT1H
BEGIN:VTIMEZONE
TZID:Europe/Stockholm
BEGIN:DAYLIGHT
TZOFFSETFROM:+0100
TZOFFSETTO:+0200
TZNAME:CEST
DTSTART:20250330T010000
END:DAYLIGHT
BEGIN:STANDARD
TZOFFSETFROM:+0200
TZOFFSETTO:+0100
TZNAME:CET
DTSTART:20251026T010000
END:STANDARD
BEGIN:DAYLIGHT
TZOFFSETFROM:+0100
TZOFFSETTO:+0200
TZNAME:CEST
DTSTART:20260329T010000
END:DAYLIGHT
BEGIN:STANDARD
TZOFFSETFROM:+0200
TZOFFSETTO:+0100
TZNAME:CET
DTSTART:20261025T010000
END:STANDARD
BEGIN:DAYLIGHT
TZOFFSETFROM:+0100
TZOFFSETTO:+0200
TZNAME:CEST
DTSTART:20270328T010000
END:DAYLIGHT
BEGIN:STANDARD
TZOFFSETFROM:+0200
TZOFFSETTO:+0100
TZNAME:CET
DTSTART:20271031T010000
END:STANDARD
END:VTIMEZONE
BEGIN:VEVENT
DTSTART;TZID=Europe/Stockholm:20260623T080000
DTEND;TZID=Europe/Stockholm:20260623T120000
DTSTAMP:20260421T020916
CREATED:20260420T083044Z
LAST-MODIFIED:20260420T083044Z
UID:10001573-1782201600-1782216000@voxvigor.se
SUMMARY:Almedalsveckan: Hur vänder vi trenden för allvarlig psykisk ohälsa – behövs kunskap eller mer verkstad?
DESCRIPTION:Beskrivning av samhällsfrågan\nOron över ökande psykisk ohälsa är stor\, men ändå har vi inte lyckats påverka utvecklingen. Har forskningen redan svar på vad vi behöver göra? Vad fattas i så fall för att på allvar ta tag i nödvändiga åtgärder om vi menar allvar med att utvecklingen är ett problem? \nUtökad information om evenemanget\nPsykisk ohälsa utgör en betydande del av sjukdomsbördan i Sverige. Särskilt allvarlig är det när problemen börjar redan i barndomen. Vi är ett av länderna med högst andel unga som inte mår bra. Dessutom dominerar psykiska faktorer bland vuxna som behöver sjukskriva sig. För suicid som den mest drastiska utvägen vid ökad psykisk ohälsa finns en ny nationell strategi för att arbeta förebyggande. Hur kan vi kan bli bättre på att fånga upp människor tidigare\, och inte minst upptäcka och göra förändringar på systemnivå för att undvika att allt fler mår allt sämre? Samtalet kommer fördjupa de frågorna utifrån aktuell forskning och olika aktörers arbete med psykisk ohälsa och suicidprevention. \nMedverkande\nSimon Cervenka\, överläkare och professor i psykiatri\, Uppsala Universitet \nEmma Henriksson\, generalsekreterare för Famna\, styrelseordförande för Forte \nZarah Melander\, intressepolitiskt ansvarig\, NSPH – Nationell samverkan för psykisk hälsa \nSiri Helle\, psykolog och författare \nEvenemangsinformation\nEvenemangstyp: Debatt/panelsamtal \nEvenemangs-ID: 6865 \nSpråk: Svenska \nFörtäring: Ja \nPlats: Mellangatan 19\, Gotlands museum\, Sävesalen\, Sävesalen \nArrangörsuppgifter\nKontaktperson: Michelle Bornestad\, Kommunikatör/pressansvarig\, Forte\, michelle.bornestad@forte.se \nAndreas Nilsson\, Kommunikatör\, Forte\, andreas.nilsson@forte.se
URL:https://voxvigor.se/pa-gang/almedalsveckan-hur-vander-vi-trenden-for-allvarlig-psykisk-ohalsa-behovs-kunskap-eller-mer-verkstad/
LOCATION:Almedalsveckan\, Gotland
END:VEVENT
BEGIN:VEVENT
DTSTART;TZID=Europe/Stockholm:20260623T130000
DTEND;TZID=Europe/Stockholm:20260623T140000
DTSTAMP:20260421T020916
CREATED:20260420T090041Z
LAST-MODIFIED:20260420T090041Z
UID:10001578-1782219600-1782223200@voxvigor.se
SUMMARY:Almedalsveckan: Levnadsvillkor hos personer i utsatthet och psykisk ohälsa - Hur ser läget och behoven ut?
DESCRIPTION:Beskrivning av samhällsfrågan\nHur ser levnadsvillkor ut för människor i utsatthet? Vilka möjligheter har vi för att skapa bättre förutsättningar? Vad säger personer\, som befinner sig i utsatthet\, själva? \nUtökad information om evenemanget\nPolitiska representanter diskuterar levnadsvillkor hos människor i utsatthet och belyser möjligheter för att skapa bättre förutsättningar. Mind presenterar även sin rapport om levnadsvillkor hos stödsökande i bl.a Självmordslinjen och andra människor i liknande situationer\, med över 1 600 svarande. \nEvenemangsinformation\nEvenemangstyp: Seminarium/föreläsning \nEvenemangs-ID: 8103 \nSpråk: Svenska \nFörtäring: Nej \nPlats: S:t Hansgatan 3\, Hälsans trädgård \nArrangörsuppgifter\nKontaktperson: Johanna Wester\, Ansvarig för påverkan på Mind\, Mind\, johanna.wester@mind.se
URL:https://voxvigor.se/pa-gang/almedalsveckan-levnadsvillkor-hos-personer-i-utsatthet-och-psykisk-ohalsa-hur-ser-laget-och-behoven-ut/
LOCATION:Almedalsveckan\, Gotland
END:VEVENT
BEGIN:VEVENT
DTSTART;TZID=Europe/Stockholm:20260623T140000
DTEND;TZID=Europe/Stockholm:20260623T150000
DTSTAMP:20260421T020916
CREATED:20260420T090316Z
LAST-MODIFIED:20260420T090316Z
UID:10001579-1782223200-1782226800@voxvigor.se
SUMMARY:Almedalsveckan: Vad innebär nya samsjuklighetslagen för alla med ett beroende?
DESCRIPTION:Beskrivning av samhällsfrågan\nPersoner med både psykisk ohälsa och beroende hamnar ofta mellan regionens och kommunens ansvarsområden. Stuprörssystem\, otillräcklig samordning och motstridiga krav har länge lett till att de mest utsatta får minst stöd. \nUtökad information om evenemanget\nResultatet av samsjuklighetsreformen är en ny lag. Kommer den att vara lösningen på problemet? Panelsamtal mellan politiker och brukarorganisationer. \nMedverkande\nPer-Johan Fernström\, Bitr chef Sociala divisionen\, Frälsningsarmén \nEvenemangsinformation\nEvenemangstyp: Debatt/panelsamtal \nEvenemangs-ID: 7976 \nSpråk: Svenska \nFörtäring: Nej \nPlats: Cramérgatan\, plats 319\, Frälsningsarmén \nArrangörsuppgifter\nKontaktperson: Eva Gustin\, Press- och Informationsansvarig\, Frälsningsarmén\, eva.gustin@fralsningsarmen.se
URL:https://voxvigor.se/pa-gang/almedalsveckan-vad-innebar-nya-samsjuklighetslagen-for-alla-med-ett-beroende/
LOCATION:Almedalsveckan\, Gotland
END:VEVENT
BEGIN:VEVENT
DTSTART;TZID=Europe/Stockholm:20260623T160000
DTEND;TZID=Europe/Stockholm:20260623T164500
DTSTAMP:20260421T020916
CREATED:20260420T084018Z
LAST-MODIFIED:20260420T084018Z
UID:10001575-1782230400-1782233100@voxvigor.se
SUMMARY:Almedalsveckan: Hopp som räddar liv – att skapa vägar vidare trots psykisk ohälsa
DESCRIPTION:Beskrivning av samhällsfrågan\nAllt fler lever med psykisk ohälsa\, i utanförskap från arbete och studier. Med det finns arbetssätt som bryter isolering. Som skapar återhämtning genom gemenskap\, struktur och långsiktighet. Hur kan politiska beslut och nya vägar öka delaktighet\, förbättra livskvalitet och minska samhällskostnader? \nUtökad information om evenemanget\nHur kan gemenskap\, struktur och långsiktigt stöd skapa vägar vidare när psykisk ohälsa begränsar möjligheten till studier och arbete? Får personer med psykisk ohälsa rätt stöd i din kommun\, eller finns det glapp i vägen till arbete och studier? Samtalet inleds med en personlig medlemsberättelse och följs av en introduktion till Fontänhusmodellen – en etablerad modell för arbetsinriktad rehabilitering som finns på över 370 platser i världen\, varav 20 i Sverige. Med utgångspunkt i erfarenheter och utvärderingar diskuteras hur modellen kan bidra till återhämtning\, stärka vägen till studier och egen försörjning samt minska behovet av vårdinsatser. Rickard Bracken\, generalsekreterare för Mind\, delar perspektiv på den växande ensamheten och behovet av meningsfulla sammanhang\, baserat på en aktuell undersökning. Vad krävs för att fler ska få tillgång till fungerande rehabilitering och hur kan beprövade modeller skalas upp? Hos oss faller ingen mellan stolarna – vi visar hur det fungerar. \nMedverkande\nLena Nilja\, Samordnare\, Sveriges Fontänhus Riksförbund \nAnne Schildt\, Projektledare\, Sveriges Fontänhus Riksförbund \nRickard Bracken\, Generalsekreterare\, Mind \nEmelie\, Medlem\, Lunds Fontänhus \nEvenemangsinformation\nEvenemangstyp: Seminarium/föreläsning \nEvenemangs-ID: 8760 \nSpråk: Svenska \nFörtäring: Nej \nPlats: Hamngatan 5\, Donnerska huset\, trädgården\, Alla Röster Ska Höras \nArrangörsuppgifter\nKontaktperson: Lena Nilja\, Sveriges Fontänhus Riksförbund\, lena.nilja@sverigesfontanhus.se \nAnne Schildt\, Sveriges Fontänhus Riksförbund\, anne.schildt@sverigesfontanhus.se
URL:https://voxvigor.se/pa-gang/almedalsveckan-hopp-som-raddar-liv-att-skapa-vagar-vidare-trots-psykisk-ohalsa/
LOCATION:Almedalsveckan\, Gotland
END:VEVENT
END:VCALENDAR