BEGIN:VCALENDAR
VERSION:2.0
PRODID:-//Vox Vigor - ECPv6.15.11//NONSGML v1.0//EN
CALSCALE:GREGORIAN
METHOD:PUBLISH
X-WR-CALNAME:Vox Vigor
X-ORIGINAL-URL:https://voxvigor.se
X-WR-CALDESC:Händelser för Vox Vigor
REFRESH-INTERVAL;VALUE=DURATION:PT1H
X-Robots-Tag:noindex
X-PUBLISHED-TTL:PT1H
BEGIN:VTIMEZONE
TZID:Europe/Stockholm
BEGIN:DAYLIGHT
TZOFFSETFROM:+0100
TZOFFSETTO:+0200
TZNAME:CEST
DTSTART:20240331T010000
END:DAYLIGHT
BEGIN:STANDARD
TZOFFSETFROM:+0200
TZOFFSETTO:+0100
TZNAME:CET
DTSTART:20241027T010000
END:STANDARD
BEGIN:DAYLIGHT
TZOFFSETFROM:+0100
TZOFFSETTO:+0200
TZNAME:CEST
DTSTART:20250330T010000
END:DAYLIGHT
BEGIN:STANDARD
TZOFFSETFROM:+0200
TZOFFSETTO:+0100
TZNAME:CET
DTSTART:20251026T010000
END:STANDARD
BEGIN:DAYLIGHT
TZOFFSETFROM:+0100
TZOFFSETTO:+0200
TZNAME:CEST
DTSTART:20260329T010000
END:DAYLIGHT
BEGIN:STANDARD
TZOFFSETFROM:+0200
TZOFFSETTO:+0100
TZNAME:CET
DTSTART:20261025T010000
END:STANDARD
END:VTIMEZONE
BEGIN:VEVENT
DTSTART;TZID=Europe/Stockholm:20250527T084500
DTEND;TZID=Europe/Stockholm:20250527T143000
DTSTAMP:20260421T110014
CREATED:20250512T140008Z
LAST-MODIFIED:20250512T140008Z
UID:10001491-1748335500-1748356200@voxvigor.se
SUMMARY:Psykiatrin i siffror 2025
DESCRIPTION:En öppen webbsändning för presentation av reflektion kring 2025 års rapporter (2024 års data) för barn- och ungdomspsykiatrin (BUP)\, vuxenpsykiatrin (VUP) och rättspsykiatrin (RPV). \n\n\n\n\n \n\n\nDatum: 27 maj 2025\nTid: 8.45 – 14.30\nPlats: Webbsändning\nKostnad: Kostnadsfritt\n\n\n\n\n\n\n\nSe webbsändningen här\n\n\n\nInnehåll\nPsykiatrin i siffror är en årlig datainsamling sedan 2016. Syftet med insamlingen är att stimulera utveckling av vården genom att ge regionerna möjlighet att jämföra sig med varandra och se förändring över tid. De ska inspirera\, utmana\, ge nya insikter och komma till användning för analys och beslut. \nMålgrupp\nBeslutsfattare\, chefer\, tjänste- och yrkespersoner med intresse för utvecklingen inom psykiatrin. \nProgram\n08.45–09.00 Välkomna och inledning\nMikael Malm\, moderator\, SKR. \n09.00–09.15 Blick på psykiatrin och prioriterade områden för SKR\nKerstin Evelius\, sektionschef för folkhälsa och psykiatri\, SKR. \n09.15–09.35 BUP-rapporten: Introduktion till årets fördjupning om tillgänglighet\nJohanna Woltjer\, samordnare\, SKR. \n09.35–09.55 BUP: Erfarenheter av produktions- och kapacitetsplanering i region Västernorrland\nMia Fridstaden\, verksamhetsutvecklare\, Region Västernorrland. \n09.55–10.10 BUP: Erfarenheter av produktions- och kapacitetsplanering i Region Dalarna\nBeat Axå\, divisionschef psykiatri och habilitering\, Region Dalarna. \n10.10–10.20 BUP: Frågor och kommentarer\n10.20–10.30 Paus\n10.30–10.45 VUP: Introduktion till årets rapport\nMikael Malm\, handläggare\, SKR. \n10.45–11.05 VUP: Introduktion till årets fördjupning om vård på distans\nCecilia Svanborg\, registerhållare för Svenska internetbehandlingsregistret (SibeR). \n11.05–11.25 VUP: Erfarenheter av att bedriva och utveckla vård på distans i Region Stockholm\nLina Martinsson\, verksamhetschef\, Psykiatri Sydväst. \n11.25–11.40 VUP: Modererat samtal om vård på distans\nCecilia Svanborg\, registerhållare för Svenska internetbehandlingsregistret (SibeR)\nLina Martinsson\, verksamhetschef Psykiatri Sydväst \n11.40–12.00 VUP: Frågor och kommentarer\n12.00–13.00 Lunchpaus\n13.00–13.25 RPV: Introduktion till årets rapport\nMikael Malm\, handläggare\, SKR. \n13.25–13.40 RPV: Samtal med Sara Ekström\, VGR\, om utvecklingen inom rättspsykiatrin\, utmaningar och framgångsfaktorer\nSara Ekström\, chefsöverläkare och tf verksamhetschef\, Psykiatriska kliniken\, Skaraborgs sjukhus. \n13.40–14.00 RPV: Kvantitativ forskning om livet efter rättspsykiatrisk vård\nEbba Noland\, Umeå universitet. \n14.00–14.10 RPV: Frågor och kommentarer\n14.10–14.25 Reflektioner om dagen\nMartin Rödholm\, ledamot i styrgruppen för Psykiatrin i siffror och representant för Västra Götalandsregionen i SKR:s nätverk för ledning och styrning av psykiatrin. \n14.30 Sändningen avslutas\n\n\n\n\n \n\n\n\n \n\n\nInformationsansvarig\n\n\nMikael Malm\nSamordnare
URL:https://voxvigor.se/pa-gang/psykiatrin-i-siffror-2025/
LOCATION:Distans
END:VEVENT
END:VCALENDAR