BEGIN:VCALENDAR
VERSION:2.0
PRODID:-//Vox Vigor - ECPv6.15.11//NONSGML v1.0//EN
CALSCALE:GREGORIAN
METHOD:PUBLISH
X-WR-CALNAME:Vox Vigor
X-ORIGINAL-URL:https://voxvigor.se
X-WR-CALDESC:Händelser för Vox Vigor
REFRESH-INTERVAL;VALUE=DURATION:PT1H
X-Robots-Tag:noindex
X-PUBLISHED-TTL:PT1H
BEGIN:VTIMEZONE
TZID:Europe/Stockholm
BEGIN:DAYLIGHT
TZOFFSETFROM:+0100
TZOFFSETTO:+0200
TZNAME:CEST
DTSTART:20250330T010000
END:DAYLIGHT
BEGIN:STANDARD
TZOFFSETFROM:+0200
TZOFFSETTO:+0100
TZNAME:CET
DTSTART:20251026T010000
END:STANDARD
BEGIN:DAYLIGHT
TZOFFSETFROM:+0100
TZOFFSETTO:+0200
TZNAME:CEST
DTSTART:20260329T010000
END:DAYLIGHT
BEGIN:STANDARD
TZOFFSETFROM:+0200
TZOFFSETTO:+0100
TZNAME:CET
DTSTART:20261025T010000
END:STANDARD
BEGIN:DAYLIGHT
TZOFFSETFROM:+0100
TZOFFSETTO:+0200
TZNAME:CEST
DTSTART:20270328T010000
END:DAYLIGHT
BEGIN:STANDARD
TZOFFSETFROM:+0200
TZOFFSETTO:+0100
TZNAME:CET
DTSTART:20271031T010000
END:STANDARD
END:VTIMEZONE
BEGIN:VEVENT
DTSTART;TZID=Europe/Stockholm:20260624T160000
DTEND;TZID=Europe/Stockholm:20260624T164500
DTSTAMP:20260420T193202
CREATED:20260420T082226Z
LAST-MODIFIED:20260420T082257Z
UID:10001571-1782316800-1782319500@voxvigor.se
SUMMARY:Almedalsveckan: Politik för psykisk hälsa - vad är det?
DESCRIPTION:Beskrivning av samhällsfrågan\nPsykisk ohälsa är en av Sveriges största folkhälsoutmaningar. En av tre drabbas och alla känner någon. Sjukdomsbördan och samhällskostnaderna enorma\, men ändå ser vi i praktiken ingen ökning av sjukvårdsbudgeten och vården är ojämlik. Vi behöver en politik för psykisk hälsa men vad innebär det? \nUtökad information om evenemanget\nVälkommen till en spänstig diskussion mellan regionspolitiker från olika partier kring hur vi kan höja prioriteringen av insatser mot psykisk ohälsa i samhället\, skapa en mer sammanhållen och personcentrerad vårdkedja samt förbättra arbetsmiljön och kompetensförsörjningen. De stora samhällskostnaderna och omätbara humanistiska som det kostar oss att inte prioritera psykisk hälsa högre har vi inte råd med. För att åstadkomma verklig förändring krävs emellertid långsiktigt politiskt ansvar samt en resursfördelning som prioriterar psykisk hälsa på samma sätt som fysisk. Men vilken politik krävs för det? I detta seminarium sätter vi fokus på hur vi kan bidra till förändring genom att utveckla en en tydlig\, långsiktig politik för psykisk hälsa helt enkelt. \n  \nMedverkande\nAnders Printz\, Moderator \nCharlotte Broberg\, Region Stockholm\, M \nRachel De Basso\, Region Jönköping\, S \nMalin Gabrielsson\, Region Västmanland\, KD \nSandra Ivanovic Rubin\, Region Stockholm\, MP \n  \nEvenemangsinformation\nEvenemangstyp: Seminarium/föreläsning \nEvenemangs-ID: 9120 \nSpråk: Svenska \nFörtäring: Ja \n  \nArrangörsuppgifter\nKontaktperson: Maria Larsson\, Ordförande emerita\, Svenska Psykiatriska Föreningen\, maria.h.larsson.spf@gmail.com
URL:https://voxvigor.se/pa-gang/politik-for-psykisk-halsa-vad-ar-det/
LOCATION:Almedalsveckan\, Gotland
END:VEVENT
END:VCALENDAR