BEGIN:VCALENDAR
VERSION:2.0
PRODID:-//Vox Vigor - ECPv6.15.11//NONSGML v1.0//EN
CALSCALE:GREGORIAN
METHOD:PUBLISH
X-ORIGINAL-URL:https://voxvigor.se
X-WR-CALDESC:Händelser för Vox Vigor
REFRESH-INTERVAL;VALUE=DURATION:PT1H
X-Robots-Tag:noindex
X-PUBLISHED-TTL:PT1H
BEGIN:VTIMEZONE
TZID:Europe/Stockholm
BEGIN:DAYLIGHT
TZOFFSETFROM:+0100
TZOFFSETTO:+0200
TZNAME:CEST
DTSTART:20230326T010000
END:DAYLIGHT
BEGIN:STANDARD
TZOFFSETFROM:+0200
TZOFFSETTO:+0100
TZNAME:CET
DTSTART:20231029T010000
END:STANDARD
BEGIN:DAYLIGHT
TZOFFSETFROM:+0100
TZOFFSETTO:+0200
TZNAME:CEST
DTSTART:20240331T010000
END:DAYLIGHT
BEGIN:STANDARD
TZOFFSETFROM:+0200
TZOFFSETTO:+0100
TZNAME:CET
DTSTART:20241027T010000
END:STANDARD
BEGIN:DAYLIGHT
TZOFFSETFROM:+0100
TZOFFSETTO:+0200
TZNAME:CEST
DTSTART:20250330T010000
END:DAYLIGHT
BEGIN:STANDARD
TZOFFSETFROM:+0200
TZOFFSETTO:+0100
TZNAME:CET
DTSTART:20251026T010000
END:STANDARD
END:VTIMEZONE
BEGIN:VEVENT
DTSTART;TZID=Europe/Stockholm:20240413T090000
DTEND;TZID=Europe/Stockholm:20240413T163000
DTSTAMP:20260423T123122
CREATED:20240326T084250Z
LAST-MODIFIED:20240326T084250Z
UID:10000363-1712998800-1713025800@voxvigor.se
SUMMARY:Psykisk hälsa för unga. Vägar vidare - det finns hopp
DESCRIPTION:Välkommen till en kostnadsfri dag om ungas psykiska hälsa som genomförs i form av fyra olika föreläsningar:\n\n– Kl. 9.30-10.45 ”Min väg ut ur självdestruktivt beteende”\, med Helena Modig\, SHEDO\n\n– Kl. 11.15-12.00 ”Gå på lava och krossat glas”\, Marie Fyrby-Ohlsson\, psykiatrisjuksköterska\n\n– Kl. 12.00-13.30 Lunch på egen hand\n\n– Kl. 13.30-14.15 ”Jag bär mina erfarenheter som en krona”\, Johanna Monsén\, Hjärnkoll\n\n– Kl 14.45-15.30 ”Från mörker till ljus – från hopplös till hoppfull”\, David Nordling\n\nÖVRIG INFO – Lunch ordnar du på egen hand. Fika kommer under dagen finnas tillgängligt till självkostnadspris. Du kommer också kunna ta del av material och inspiration vid olika bokbord.\n\nANMÄLAN- Du anmäler dig till genom Sensus hemsida [https://www.sensus.se/anmal/509852] och din anmälan gäller då för samtliga föreläsningar. Möjlighet finns att delta endast del av dagen\, meddela gärna det i fritexten i samband med anmälan.\n\nSAMARRANGEMANG – Dagen är ett samarbete mellan NSPH Värmland\, SHEDO\, Hjärnkoll\, Svenska kyrkan Kristinehamn\, region Värmland och Sensus.
URL:https://voxvigor.se/pa-gang/psykisk-halsa-for-unga-vagar-vidare-det-finns-hopp/
LOCATION:Kristinehamn församlingshem\, Kristinehamn
END:VEVENT
END:VCALENDAR