BEGIN:VCALENDAR
VERSION:2.0
PRODID:-//Vox Vigor - ECPv6.15.11//NONSGML v1.0//EN
CALSCALE:GREGORIAN
METHOD:PUBLISH
X-ORIGINAL-URL:https://voxvigor.se
X-WR-CALDESC:Händelser för Vox Vigor
REFRESH-INTERVAL;VALUE=DURATION:PT1H
X-Robots-Tag:noindex
X-PUBLISHED-TTL:PT1H
BEGIN:VTIMEZONE
TZID:Europe/Stockholm
BEGIN:DAYLIGHT
TZOFFSETFROM:+0100
TZOFFSETTO:+0200
TZNAME:CEST
DTSTART:20230326T010000
END:DAYLIGHT
BEGIN:STANDARD
TZOFFSETFROM:+0200
TZOFFSETTO:+0100
TZNAME:CET
DTSTART:20231029T010000
END:STANDARD
BEGIN:DAYLIGHT
TZOFFSETFROM:+0100
TZOFFSETTO:+0200
TZNAME:CEST
DTSTART:20240331T010000
END:DAYLIGHT
BEGIN:STANDARD
TZOFFSETFROM:+0200
TZOFFSETTO:+0100
TZNAME:CET
DTSTART:20241027T010000
END:STANDARD
BEGIN:DAYLIGHT
TZOFFSETFROM:+0100
TZOFFSETTO:+0200
TZNAME:CEST
DTSTART:20250330T010000
END:DAYLIGHT
BEGIN:STANDARD
TZOFFSETFROM:+0200
TZOFFSETTO:+0100
TZNAME:CET
DTSTART:20251026T010000
END:STANDARD
END:VTIMEZONE
BEGIN:VEVENT
DTSTART;TZID=Europe/Stockholm:20241106T150000
DTEND;TZID=Europe/Stockholm:20241106T163000
DTSTAMP:20260421T105813
CREATED:20241011T130124Z
LAST-MODIFIED:20241011T130124Z
UID:10001455-1730905200-1730910600@voxvigor.se
SUMMARY:Webbinarium om efterlevnad
DESCRIPTION:Den 6 november bjuder Nationellt Kompetenscentrum Anhöriga in till ett webbinarium som handlar om stöd till efterlevande i samband med att en familjemedlem eller vän har tagit sitt liv. \nWebbinariet har fokus på det omedelbara professionella stödet. Här får du veta mer om vad personer med egen erfarenhet upplevde som hjälpsamt i samband med den första tiden efter dödsfallet. Medverkar gör Björn Eklund\, kommunikatör vid Spes – Riksförbundet för Suicidprevention och Efterlevandestöd\, som har lång erfarenhet av att möta och stödja efterlevande. \nNär: 6 november 15.00-16.30\nVar: digitalt på zoom\nAnmälan: Klicka här för anmälan \nMer information här: anhoriga.se
URL:https://voxvigor.se/pa-gang/webbinarium-om-efterlevnad/
LOCATION:Distans
END:VEVENT
END:VCALENDAR