BEGIN:VCALENDAR
VERSION:2.0
PRODID:-//Vox Vigor - ECPv6.15.11//NONSGML v1.0//EN
CALSCALE:GREGORIAN
METHOD:PUBLISH
X-ORIGINAL-URL:https://voxvigor.se
X-WR-CALDESC:Händelser för Vox Vigor
REFRESH-INTERVAL;VALUE=DURATION:PT1H
X-Robots-Tag:noindex
X-PUBLISHED-TTL:PT1H
BEGIN:VTIMEZONE
TZID:Europe/Stockholm
BEGIN:DAYLIGHT
TZOFFSETFROM:+0100
TZOFFSETTO:+0200
TZNAME:CEST
DTSTART:20250330T010000
END:DAYLIGHT
BEGIN:STANDARD
TZOFFSETFROM:+0200
TZOFFSETTO:+0100
TZNAME:CET
DTSTART:20251026T010000
END:STANDARD
BEGIN:DAYLIGHT
TZOFFSETFROM:+0100
TZOFFSETTO:+0200
TZNAME:CEST
DTSTART:20260329T010000
END:DAYLIGHT
BEGIN:STANDARD
TZOFFSETFROM:+0200
TZOFFSETTO:+0100
TZNAME:CET
DTSTART:20261025T010000
END:STANDARD
BEGIN:DAYLIGHT
TZOFFSETFROM:+0100
TZOFFSETTO:+0200
TZNAME:CEST
DTSTART:20270328T010000
END:DAYLIGHT
BEGIN:STANDARD
TZOFFSETFROM:+0200
TZOFFSETTO:+0100
TZNAME:CET
DTSTART:20271031T010000
END:STANDARD
END:VTIMEZONE
BEGIN:VEVENT
DTSTART;TZID=Europe/Stockholm:20260121T100000
DTEND;TZID=Europe/Stockholm:20260121T120000
DTSTAMP:20260421T105409
CREATED:20251117T123312Z
LAST-MODIFIED:20251117T123312Z
UID:10001545-1768989600-1768996800@voxvigor.se
SUMMARY:Webbinarium: Ekonomiska problem och risken för suicid
DESCRIPTION:Risken för psykisk och fysisk ohälsa ökar för den som lever med ansträngd ekonomi och skulder. Det finns till och med ett samband mellan överskuldsättning och försök att ta sitt eget liv. Webbinariet vill öka kunskapen om ekonomisk utsatthet som en riskfaktor för suicid och vad samhällets aktörer kan göra för att fånga upp människor i tid. \n\n\n\nDatum: 21 januari 2026 \nTid: 10:00 – 12:00 \nÄmne: Privatekonomi \nFöreläsare: \n\nJenny Telander\, tillförordnad enhetschef\, Folkhälsomyndigheten\nMaria Cerci\, utredare\, Socialstyrelsen\nHenrik Levinsson\, lektor och docent vid Institutionen för psykologi\, Lunds universitet\nBodil Nordin\, budget- och skuldrådgivare\, Höganäs kommun\nFrida Söder\, utredare\, Konsumentverket\n\n\n\nAnmäl dig till webbinarium \nSista dag för anmälan är den 16 januari 2026 \n\n\nVem vänder sig webbinariet till?\n\nWebbinariet riktar sig till dig som i ditt yrke möter ekonomiskt utsatta; socialsekreterare\, personal inom vården\, diakoner\, budget- och skuldrådgivare med flera. Webbinariet vänder sig också till myndigheter och andra aktörer som arbetar med psykisk hälsa och suicidprevention på ett mer övergripande plan. \n\nOm webbinariet\n\nPsykisk ohälsa och suicid orsakar stort mänskligt lidande och har omfattande individuella och samhällsekonomiska konsekvenser. Ingen ska behöva hamna i en situation där man upplever att den enda utvägen är att ta sitt liv. Samhället behöver bli bättre på att fånga upp individer i tillräckligt god tid för att förebygga ohälsa och för att också minska samhällets kostnader. \nMer om innehållet\n\nJenny Telander\, tillförordnad enhetschef på Folkhälsomyndigheten och Maria Cerci\, utredare på Socialstyrelsen berättar om den Nationella strategin för psykisk hälsa och suicidprevention.\nHenrik Levinsson\, lektor och docent vid Institutionen för psykologi\, Lunds universitet\, om överskuldsättning som riskfaktor för suicidalt beteende och unga vuxnas privatekonomiska problem.\nBodil Nordin\, budget- och skuldrådgivare i Höganäs\, om erfarenheter av det suicidförebyggande arbetet vid budget- och skuldrådgivningen i Höganäs kommun.\nFrida Söder\, utredare på Konsumentverket\, presenterar myndighetens stöd till aktörer som möter personer som behöver hjälp att få ordning på sin ekonomiska situation.
URL:https://voxvigor.se/pa-gang/webbinarium-ekonomiska-problem-och-risken-for-suicid/
LOCATION:Distans
END:VEVENT
END:VCALENDAR