BEGIN:VCALENDAR
VERSION:2.0
PRODID:-//Vox Vigor - ECPv6.15.11//NONSGML v1.0//EN
CALSCALE:GREGORIAN
METHOD:PUBLISH
X-WR-CALNAME:Vox Vigor
X-ORIGINAL-URL:https://voxvigor.se
X-WR-CALDESC:Händelser för Vox Vigor
REFRESH-INTERVAL;VALUE=DURATION:PT1H
X-Robots-Tag:noindex
X-PUBLISHED-TTL:PT1H
BEGIN:VTIMEZONE
TZID:Europe/Stockholm
BEGIN:DAYLIGHT
TZOFFSETFROM:+0100
TZOFFSETTO:+0200
TZNAME:CEST
DTSTART:20230326T010000
END:DAYLIGHT
BEGIN:STANDARD
TZOFFSETFROM:+0200
TZOFFSETTO:+0100
TZNAME:CET
DTSTART:20231029T010000
END:STANDARD
BEGIN:DAYLIGHT
TZOFFSETFROM:+0100
TZOFFSETTO:+0200
TZNAME:CEST
DTSTART:20240331T010000
END:DAYLIGHT
BEGIN:STANDARD
TZOFFSETFROM:+0200
TZOFFSETTO:+0100
TZNAME:CET
DTSTART:20241027T010000
END:STANDARD
BEGIN:DAYLIGHT
TZOFFSETFROM:+0100
TZOFFSETTO:+0200
TZNAME:CEST
DTSTART:20250330T010000
END:DAYLIGHT
BEGIN:STANDARD
TZOFFSETFROM:+0200
TZOFFSETTO:+0100
TZNAME:CET
DTSTART:20251026T010000
END:STANDARD
END:VTIMEZONE
BEGIN:VEVENT
DTSTART;TZID=Europe/Stockholm:20241001T143000
DTEND;TZID=Europe/Stockholm:20241001T173000
DTSTAMP:20260420T215549
CREATED:20240913T080716Z
LAST-MODIFIED:20240913T080716Z
UID:10001440-1727793000-1727803800@voxvigor.se
SUMMARY:Webbinarium om äldres psykiska hälsa
DESCRIPTION:Vad händer med den psykiska hälsan när vi åldras? Hur kan vi förebygga ofrivillig ensamhet och identifiera psykisk ohälsa bland äldre personer? Riksförbundet Hjärnkoll bjuder in till ett kostnadsfritt webbinarium på den internationella äldredagen. Medverkar gör bland annat psykiatern och suicidforskaren Ullakarin Nyberg och Hjärnkolls seniorambassadörer. \nTid: 1 oktober 14.30-17.30 (webbinariet kan också ses i efterhand på Hjärnkolls YouTube-kanal).\nPlats: Digitalt. Länk skickas till din e-postadress dagen innan.\nFör vem? Webbinariet vänder sig till dig som i ditt arbete möter äldre personer. Vi hoppas också att du som själv är senior eller anhörig till en äldre person med psykisk ohälsa ska ha nytta av detta webbinarium. \nProgram:\n– Inledning\n– Videohälsning från Äldreministern Anna Tenje\n– Föreläsning av Sven-Erik Henriksson\n– Föreläsning av seniorambassadör Lilian Hamsch\n– Panelsamtal med Ullakarin Nyberg\, Sven-Erik Henriksson samt seniorambassadörerna Lilian Hamsch\noch Staffan Nelsson. \nAnmälan görs här \nKontakt: caroline.lindstrom@hjarnkoll.se
URL:https://voxvigor.se/pa-gang/webbinarium-om-aldres-psykiska-halsa/
LOCATION:Distans
END:VEVENT
END:VCALENDAR