BEGIN:VCALENDAR
VERSION:2.0
PRODID:-//Vox Vigor - ECPv6.15.11//NONSGML v1.0//EN
CALSCALE:GREGORIAN
METHOD:PUBLISH
X-ORIGINAL-URL:https://voxvigor.se
X-WR-CALDESC:Händelser för Vox Vigor
REFRESH-INTERVAL;VALUE=DURATION:PT1H
X-Robots-Tag:noindex
X-PUBLISHED-TTL:PT1H
BEGIN:VTIMEZONE
TZID:Europe/Stockholm
BEGIN:DAYLIGHT
TZOFFSETFROM:+0100
TZOFFSETTO:+0200
TZNAME:CEST
DTSTART:20230326T010000
END:DAYLIGHT
BEGIN:STANDARD
TZOFFSETFROM:+0200
TZOFFSETTO:+0100
TZNAME:CET
DTSTART:20231029T010000
END:STANDARD
BEGIN:DAYLIGHT
TZOFFSETFROM:+0100
TZOFFSETTO:+0200
TZNAME:CEST
DTSTART:20240331T010000
END:DAYLIGHT
BEGIN:STANDARD
TZOFFSETFROM:+0200
TZOFFSETTO:+0100
TZNAME:CET
DTSTART:20241027T010000
END:STANDARD
BEGIN:DAYLIGHT
TZOFFSETFROM:+0100
TZOFFSETTO:+0200
TZNAME:CEST
DTSTART:20250330T010000
END:DAYLIGHT
BEGIN:STANDARD
TZOFFSETFROM:+0200
TZOFFSETTO:+0100
TZNAME:CET
DTSTART:20251026T010000
END:STANDARD
END:VTIMEZONE
BEGIN:VEVENT
DTSTART;TZID=Europe/Stockholm:20240919T180000
DTEND;TZID=Europe/Stockholm:20240919T200000
DTSTAMP:20260421T123530
CREATED:20240813T141126Z
LAST-MODIFIED:20240813T141126Z
UID:10001422-1726768800-1726776000@voxvigor.se
SUMMARY:Dialogmöte om psykisk ohälsa
DESCRIPTION:Halmstad Kommun vill ta del av dina erfarenheter och tankar om psykisk ohälsa och bjuder härmed in dig som är:• Kommuninvånare och person med egen erfarenhet av psykiskohälsa• Medlem i en funktionsrättsorganisation ellerintresseorganisation\nKvällen startar med den omtyckta föreläsaren och författaren Lars Häggström\, specialistläkare i psykiatri och verksamhetschef på Affecta psykiatrimottagning. Han föreläser om hur psykisk ohälsa påverkar människors hälsa.\nVi fikar sedan tillsammans och sitter i grupp för att diskutera psykisk ohälsa utifrån några frågeställningar. Det som kommer fram i dialogerna kommer att skrivas ned och kommer vara helt anonymt.\nSammanställningen av dialogen kommer tjänstemän och politiker att använda som underlag – både för planering och inför beslutsfattande.\nIngen anmälan. Begränsat antal platser så kom i god tid.\n\nBredgatan 3\, Halmstad
URL:https://voxvigor.se/pa-gang/dialogmote-om-psykisk-ohalsa/
LOCATION:Halmstad
END:VEVENT
END:VCALENDAR