BEGIN:VCALENDAR
VERSION:2.0
PRODID:-//Vox Vigor - ECPv6.15.11//NONSGML v1.0//EN
CALSCALE:GREGORIAN
METHOD:PUBLISH
X-ORIGINAL-URL:https://voxvigor.se
X-WR-CALDESC:Händelser för Vox Vigor
REFRESH-INTERVAL;VALUE=DURATION:PT1H
X-Robots-Tag:noindex
X-PUBLISHED-TTL:PT1H
BEGIN:VTIMEZONE
TZID:Europe/Stockholm
BEGIN:DAYLIGHT
TZOFFSETFROM:+0100
TZOFFSETTO:+0200
TZNAME:CEST
DTSTART:20240331T010000
END:DAYLIGHT
BEGIN:STANDARD
TZOFFSETFROM:+0200
TZOFFSETTO:+0100
TZNAME:CET
DTSTART:20241027T010000
END:STANDARD
BEGIN:DAYLIGHT
TZOFFSETFROM:+0100
TZOFFSETTO:+0200
TZNAME:CEST
DTSTART:20250330T010000
END:DAYLIGHT
BEGIN:STANDARD
TZOFFSETFROM:+0200
TZOFFSETTO:+0100
TZNAME:CET
DTSTART:20251026T010000
END:STANDARD
BEGIN:DAYLIGHT
TZOFFSETFROM:+0100
TZOFFSETTO:+0200
TZNAME:CEST
DTSTART:20260329T010000
END:DAYLIGHT
BEGIN:STANDARD
TZOFFSETFROM:+0200
TZOFFSETTO:+0100
TZNAME:CET
DTSTART:20261025T010000
END:STANDARD
END:VTIMEZONE
BEGIN:VEVENT
DTSTART;VALUE=DATE:20251006
DTEND;VALUE=DATE:20251009
DTSTAMP:20260420T031529
CREATED:20250918T220800Z
LAST-MODIFIED:20250918T220845Z
UID:10001517-1759708800-1759967999@voxvigor.se
SUMMARY:Anhörigdagarna 2025 - Uppsala
DESCRIPTION:Under tre dagar i början av oktober kan du som stöttar någon i din närhet lyssna på föredrag och delta i en workshop. Alla aktiviteter är gratis. Du ska anmäla dig innan du går dit.\nAnmälan: Anmäl dig genom att ringa 018-727 92 00 eller mejla anhorigcentrum@uppsala.se\nMer information på webben: https://www.uppsala.se/kampanjsidor/anhorigdagarna-2025/ \n 
URL:https://voxvigor.se/pa-gang/anhorigdagarna-2025-uppsala/
END:VEVENT
END:VCALENDAR